Workbook

Sheet Kitöltési útmutató
A1: KITÖLTÉSI ÚTMUTATÓ
A2: Általános kitöltéssel kapcsolatos információk
B3: A munkalapokat nem kell átnevezni. Minden munkalapon - kivéve előlap-, a táblázat alatt lévő szövegrészbe (NYILATKOZAT) kérjük írja be a szervezete nevét. CHEKLIST egy segédtábla, az elszámoláshoz nem kell beküldeni!
A5: 1. | B5: Előlap
B6: A7 cella: Kérjük írja be a Támogatói Okirat számát. Az előlapon szereplő Elszámolás összesítő táblázat adatainak feltöltéséhez segítséget nyújtanak a feltöltött munkalapok. A “Tervezésben szereplő költségvetési sor sorszáma” oszlop szűrésével tudják az adatokat legyűjteni. A "Támogatás összege", "Előírt önrész összege" és "Vállalt önrész összege" celláknak meg kell egyeznie a projekt teljes költségével. A projekt tényleges összköltsége nem lehet több a projekt jóváhagyott összköltségénél.
A7: 2. | B7: 1., 2. Számlaösszesítő
B8: Abban az esetben ha a Pályázó bruttó elszámolású- benyújtott ÁFA nyilatkozat alapján-, a munkalap NETTÓ összeg oszlopot nem kell kitölteni. A második (H2 cella), illetve harmadik sorba (H3 cella) kérem, írja be a pályázat azonosítószámát, illetve az elnyert teljes összeget. A többi munkalapra másolódik. (Amennyiben a táblázat több oldalból áll, minden oldalon, meg kell tenni.) Minden sor végén ki kell választani a lenyíló menüből a számlához kapcsolódó költségvetési sor sorszámát. (“O” oszlop) A fejlécben egyes cellák mellett megjegyzés szerepel, melyet a cella sarkában lévő kis piros háromszög jelez.
A14: 3. | B14: 3. Személyi kiadások összesítő
B15: Kérjük a táblázat celláit értelemszerűen adatokkal feltölteni. A "Kifizetést érintő időszak" a számfejtett teljesítési időszakkal egyezik meg. A Foglalkoztató által fizetett járulék oszlopba ("J" oszlop) kizárólag a SZOCHO-t és az EFO napi járulékát tüntessék fel, az egyéb járulékokat már a bruttó bér tartalmazza. Kérjük, hogy ne használjanak a számok között szóközt.
A20: 4. | B20: 3. 4 Ügyfelek pénzbeli támogatása
B21: Kérjük a táblázat celláit értelemszerűen adatokkal feltölteni. Az összesen adatok automatikusan átemelésre kerülnek a "3. Személyi kiadások összesítő" első sorába. A mintasort ne felejtsék el saját adatokkal feltölteni!
A26: 5. | B26: 3.4 Közérdekű önkéntes munka értéke
B27: Kérjük a táblázat celláit értelemszerűen adatokkal feltölteni. Az összesen adatok automatikusan átemelésre kerülnek a "3. Személyi kiadások összesítő" második sorába. A mintasort ne felejtsék el saját adatokkal feltölteni!

Sheet CHECKLIST
A1: ELLENÖRZŐ KÉRDÉSEK A pénzügyi elszámolás eredményes elkészítéséhez NEM BEKÜLDENDŐ MUNKALAP!
A3: Kérjük, hogy a pénzügyi elszámolás beküldése előtt olvassák át az alábbi ellenőrzési szempontokat, és győződjenek meg róla, hogy az elszámolásukat ennek és az elszámolási útmutatóban előírtaknak megfelelően készítették el!
A6: „Felhívjuk a Kedvezményezett figyelmét arra, hogy a szakmai és pénzügyi elszámolással összefüggésben hiánypótlásra maximum 2 alkalommal van lehetőség. Amennyiben a szakmai és pénzügyi elszámolás a hiánypótlást követően sem megfelelő, a támogatási összeg részleges vagy teljes visszafizetését, és a későbbi pályázatokból történő kizárást vonhatja maga után."
A10: ELLENŐRZŐ KÉRDÉSEK
A11: 1. pont
A12: A támogatott projekt a Támogatói Okirat szerinti megvalósítási időszakra esik.
A13: Valamennyi elszámolt költség ebben az időszakban keletkezett?
A14: Valamennyi kifizetés a Támogatói okiratban meghatározott időszakban történt?
A15: Valamennyi tevékenység ebben az időszakban történt?
A16: 2. pont
A17: A Pénzügyi elszámoláson az „Előlap” táblázatban minden oszlopban szükséges az összegek megjelenítése, ahol nincs adat ott kérjük írjon nullát. A "Támogatás összege" oszlopba a Támogatói okiratban foglalt összeget kérjük beírni, amennyiben volt költségvetés módosítás asszerint töltsék fel az adatokat. A második oszlopba a felhasznált összeget kell beírni, a harmadik oszlop automatikusan számol.
A22: A támogatás összege, a kötelező és vállalt önrész összege megegyezik a támogatói okiratban szereplő összeggel?
... A46: Minden konzorciumi tag külön elszámoló táblát töltött ki? A konzorcium vezető az ellenőrzés tényét cégszerű aláírásával elismerte a Konzorciumi tag beadott elszámoló tábláin?

Sheet Előlap
A7: TÉTELES ELSZÁMOLÁS a ..... számú támogatói okirat keretében biztosított támogatás és előírt saját forrás felhasználásáról
A9: Konzorciumban indult: | C9: (tegyen x-t a cellába ha igen)
A12: Kedvezményezett neve:
A13: Jelen elszámolás összeállítójának neve:
A14: Telefonszáma:
A15: E-mail címe:
A17: Elszámolás összesítő táblázat | B17: Támogatás összege | C17: Támogatás terhére elszámolt összeg* | D17: Maradvány+/Túlköltés- | E17: Kötelező önrész összege | F17: Kötelező önrész terhére elszámolt összeg | G17: Maradvány | H17: Vállalt önrész összege | I17: Vállalt önrész terhére elszámolt összeg | J17: Maradvány
A18: 1. Dologi kiadások | D18: =B18-C18 -> 0 | G18: =E18-F18 -> 0 | J18: =H18-I18 -> 0
A19: 2. Felhalmozási kiadások | D19: =B19-C19 -> 0 | G19: =E19-F19 -> 0 | J19: =H19-I19 -> 0
A20: 3. Személyi kiadások | D20: =B20-C20 -> 0 | G20: =E20-F20 -> 0 | J20: =H20-I20 -> 0
A21: Összesen | B21: =SUM(B18:B20) -> 0 | C21: =SUM(C18:C20) -> 0 | D21: =SUM(D18:D20) -> 0 | E21: =SUM(E18:E20) -> 0 | F21: =SUM(F18:F20) -> 0 | G21: =SUM(G18:G20) -> 0 | H21: =SUM(H18:H20) -> 0 | I21: =SUM(I18:I20) -> 0 | J21: =SUM(J18:J20) -> 0
A23: A projekt tervezett összköltsége | B23: =(B21+E21+H21) -> 0
A24: A projekt tényleges összköltsége | B24: =(C21+F21+I21) -> 0
A25: Maradvány | B25: =B23-B24 -> 0
A26: Elszámolásban nem elfogadható költségek, visszafizetési kötelezettséggel (Támogató tölti ki)
A27: A Kedvezményezett által Támogató számlájára visszautalandó (Támogató tölti ki)
A29: * Kérjük a cellákat a munkalapokon rögzített számlák és bizonylatok alapján kitölteni, figyelembe véve az adott ÁFA levonási jogra vonatkozó nyilatkozatot (bruttó/nettó)
A32: Budapest, ....................................
E34: cégszerű aláírás, pecsét
B36: Konzorcium esetén a konzorcium vezető képviselőjének aláírása:
A37: Budapest, ....................................
E38: cégszerű aláírás, pecsét

Sheet 1., 2. Számlaösszesítő
H1: ELSZÁMOLÓ TÁBLA
H2: Az „FSZA 202..-…........" azonosítószámú pályázat alapján nyújtott
G3: 0.000.000 Ft összegű támogatás* és a támogató által előírt önrész felhasználásáról
I5: =SUBTOTAL(9,$I$7:$I$106) -> 0 | J5: =SUBTOTAL(9,$J$7:$J$106) -> 0 | M5: =SUBTOTAL(9,$M$7:$M$106) -> 0 | N5: =SUBTOTAL(9,$N$7:$N$106) -> 0
A6: Sorszám | B6: Bizonylat sorszáma | C6: Bizonylat kelte | D6: Bizonylat teljesítésének dátuma | E6: Fizetési mód (KP- készpénz UT - Utalás vagy bankkártya BK - Bankkártya) | F6: Szállító megnevezése | G6: Szállító adószáma | H6: Termék/Szolgáltatás megnevezése | I6: Nettó összeg (Ft) | J6: Bruttó összeg (Ft) | K6: A pénzügyi teljesítés (kifizetés) dátuma | L6: A pénzügyi teljesítést igazoló bizonylat sorszáma (Bankkivonat vagy Tranzakció azonosító száma/pénztárbizonylat sorszáma) | M6: Pályázat terhére elszámolt összeg (Ft) | N6: Kötelező önrész terhére elszámolt összeg (Ft) | O6: Tervezésben szereplő költségvetési sor sorszáma | P6: ell
A7: 1 | P7: =IF(I7>0,I7/J7,"")
A8: 2 | P8: =IF(I8>0,I8/J8,"")
A9: 3 | P9: =IF(I9>0,I9/J9,"")
A10: 4 | P10: =IF(I10>0,I10/J10,"")
A11: 5 | P11: =IF(I11>0,I11/J11,"")
A12: 6 | P12: =IF(I12>0,I12/J12,"")
A13: 7 | P13: =IF(I13>0,I13/J13,"")
A14: 8 | P14: =IF(I14>0,I14/J14,"")
A15: 9 | P15: =IF(I15>0,I15/J15,"")
A16: 10 | P16: =IF(I16>0,I16/J16,"")
A17: 11 | P17: =IF(I17>0,I17/J17,"")
A18: 12 | P18: =IF(I18>0,I18/J18,"")
... A106: 100 | P106: =IF(I106>0,I106/J106,"")
A107: Kérjük, ne adjon meg újabb sort! Amennyiben további bizonylatokat akar felvinni, hozzon létre újabb munkalapot! | P107: =IF(K107>0,K107/L107,"")
H109: NYILATKOZAT
E114: Alulírott, a/z/ …………………………………………. törvényes képviselője felelősségem tudatában kijelentem, hogy az elszámoló lapon szereplő adatok a valóságnak megfelelnek, a támogatást a pénzügyi és számviteli jogszabályok szerint számoltam el, továbbá igazolom, hogy a támogatást a hivatkozott számú támogatói okiratban foglalt foglaltaknak megfelelően használtam fel. A bizonylatok kifizetését megelőzően meggyőződtem arról, hogy a teljesítés szerződésszerűen megtörtént. Az elszámoló lapon feltüntetett bizonylatokat kizárólag a jelen elszámolásban szerepeltetem, azok eredeti, a támogatói okirat szerint záradékolt példánya az általam képviselt szervezet székhelyén/telephelyén rendelkezésre áll. Az elektronikus úton megküldött bizonylatok és a bizonylatokat alátámasztó megküldött kapcsolódó dokumentumok az eredetivel mindenben megegyeznek. Tudomásul veszem, hogy amennyiben a támogatott projekt teljes, tényleges megvalósítási költsége kisebb, mint a tervezett összes költség, úgy arányos visszafizetési kötelezettség terhel.
E115: * Kérjük az összeget kitölteni.
E117: Budapest, ....................................
I119: cégszerű aláírás, pecsét
G121: Konzorcium esetén a konzorcium vezető képviselőjének aláírása:
E122: Budapest, ....................................
I123: cégszerű aláírás, pecsét

Sheet 3. Személyi kiadások összesítő
H1: ELSZÁMOLÓ TÁBLA
H2: ='1., 2. Számlaösszesítő'!H2 -> Az „FSZA 202..-…........" azonosítószámú pályázat alapján nyújtott
F3: ='1., 2. Számlaösszesítő'!G3 -> 0.000.000 Ft összegű támogatás* és a támogató által előírt önrész felhasználásáról
E5: =SUBTOTAL(9,$E$8:$E$56) -> 0 | G5: =SUBTOTAL(9,$G$7:$G$56) -> 30000 | H5: =SUBTOTAL(9,$H$7:$H$56) -> 190000 | J5: =SUBTOTAL(9,$J$7:$J$56) -> 0 | M5: =SUBTOTAL(9,$M$7:$M$56) -> 0 | N5: =SUBTOTAL(9,$N$7:$N$56) -> 0
A6: Sorszám | B6: Név | C6: Pozíció megnevezése | D6: Kifizetést érintő időszak | E6: Bruttó havi bér | F6: Kifizetés időpontja | G6: Pályázat terhére elszámolt bruttó bér összege | H6: Kötelező önrész terhére elszámolt összeg | I6: Kifizetés igazoló bizonylat száma (Pénztárbizonyat, bankszámlakivonat száma) | J6: Foglalkoztató által fizetett járulék | K6: Kifizetés időpontja | L6: Kifizetés igazoló bizonylat száma (Pénztárbizonyat, bankszámlakivonat száma) | M6: Pályázat terhére elszámolt járulék összege | N6: Kötelező önrész terhére elszámolt járulék összege | O6: Tervezésben szereplő költségvetési sor sorszáma
A7: 1 | B7: "3.4 Ügyfelek pénzbeli támogatása" munkalap adatai - automatikusan töltődő sor, kérjük NE TÖRÖLJÉK! | G7: ='3.4 Ügyfelek pénzbeli támogatás'!D5 -> 30000 | H7: ='3.4 Ügyfelek pénzbeli támogatás'!E5 -> 10000 | O7: =O8 -> 3.4 Egyéb személyi kiadások (ügyfelek pénzbeli támogatása, közérdekű önkéntes munka értéke)
A8: 2 | B8: "3.4 Közérdekű önkéntes munka értéke" munkalap adatai - automatikusan töltődő sor, kérjük NE TÖRÖLJÉK! | H8: ='3.4 Közérdekű önkéntes munka ér'!H5 -> 180000 | O8: 3.4 Egyéb személyi kiadások (ügyfelek pénzbeli támogatása, közérdekű önkéntes munka értéke)
A9: 3
A10: 4
A11: 5
A12: 6
A13: 7
A14: 8
A15: 9
A16: 10
A17: 11
A18: 12
A19: 13
A20: 14
... A56: 50
D59: NYILATKOZAT
B64: Alulírott, a/z/ …………………………………………. törvényes képviselője felelősségem tudatában kijelentem, hogy az elszámoló lapon szereplő adatok a valóságnak megfelelnek, a támogatást a pénzügyi és számviteli jogszabályok szerint számoltam el, továbbá igazolom, hogy a támogatást a hivatkozott számú támogatói okiratban foglalt foglaltaknak megfelelően használtam fel. A bizonylatok kifizetését megelőzően meggyőződtem arról, hogy a teljesítés szerződésszerűen megtörtént. Az elszámoló lapon feltüntetett bizonylatokat kizárólag a jelen elszámolásban szerepeltetem, azok eredeti, a támogatói okirat szerint záradékolt példánya az általam képviselt szervezet székhelyén/telephelyén rendelkezésre áll. Az elektronikus úton megküldött bizonylatok és a bizonylatokat alátámasztó megküldött kapcsolódó dokumentumok az eredetivel mindenben megegyeznek. Tudomásul veszem, hogy amennyiben a támogatott projekt teljes, tényleges megvalósítási költsége kisebb, mint a tervezett összes költség, úgy arányos visszafizetési kötelezettség terhel.
B65: * Kérjük az összeget kitölteni.
C67: Budapest, ....................................
H68: cégszerű aláírás, pecsét
E71: Konzorcium esetén a konzorcium vezető képviselőjének aláírása:
C73: Budapest, ....................................
H74: cégszerű aláírás, pecsét

Sheet 3.4 Ügyfelek pénzbeli támogatás
D1: ELSZÁMOLÓ TÁBLA
D2: ='3. Személyi kiadások összesítő'!H2 -> Az „FSZA 202..-…........" azonosítószámú pályázat alapján nyújtott
B3: ='3. Személyi kiadások összesítő'!F3 -> 0.000.000 Ft összegű támogatás* és a támogató által előírt önrész felhasználásáról
C5: =SUM(C7:C46) -> 60000 | D5: =SUM(D7:D46) -> 30000 | E5: =SUM(E7:E46) -> 10000
A6: Sorszám | B6: Kifizetés dátuma | C6: Kifizetett összeg (Ft) | D6: Pályázat terhére elszámolt összeg a kifizetett összegből (Ft) | E6: Kötelező önrész terhére elszámolt összeg a kifizetett összegből (Ft) | F6: Kifizetés módja (készpénz vagy utalás) | G6: Kifizetési bizonylat száma | H6: Indoklás | I6: Háztartás létszáma (fő)
A7: 1 | B7: 2026.05.11 | C7: 60000 | D7: 30000 | E7: 10000 | F7: készpénz | G7: ABC123 | H7: Háztartási eszközök vásárlása | I7: 4 | J7: minta sor, saját adatokkal feltölteni, vagy ha nem volt ilyen kiadás, törölni
A8: =A7+1 -> 2
A9: =A8+1 -> 3
A10: =A9+1 -> 4
A11: =A10+1 -> 5
A12: =A11+1 -> 6
A13: =A12+1 -> 7
A14: =A13+1 -> 8
A15: =A14+1 -> 9
A16: =A15+1 -> 10
A17: =A16+1 -> 11
A18: =A17+1 -> 12
A19: =A18+1 -> 13
... A46: =A45+1 -> 40
F55: NYILATKOZAT
B60: Alulírott, a/z/ …………………………………………. törvényes képviselője felelősségem tudatában kijelentem, hogy az elszámoló lapon szereplő adatok a valóságnak megfelelnek, a támogatást a pénzügyi és számviteli jogszabályok szerint számoltam el, továbbá igazolom, hogy a támogatást a hivatkozott számú támogatói okiratban foglalt foglaltaknak megfelelően használtam fel. A bizonylatok kifizetését megelőzően meggyőződtem arról, hogy a teljesítés szerződésszerűen megtörtént. Az elszámoló lapon feltüntetett bizonylatokat kizárólag a jelen elszámolásban szerepeltetem, azok eredeti, a támogatói okirat szerint záradékolt példánya az általam képviselt szervezet székhelyén/telephelyén rendelkezésre áll. Az elektronikus úton megküldött bizonylatok és a bizonylatokat alátámasztó megküldött kapcsolódó dokumentumok az eredetivel mindenben megegyeznek. Tudomásul veszem, hogy amennyiben a támogatott projekt teljes, tényleges megvalósítási költsége kisebb, mint a tervezett összes költség, úgy arányos visszafizetési kötelezettség terhel.
B61: * Kérjük az összeget kitölteni.
C63: Budapest, ....................................
H64: cégszerű aláírás, pecsét
E67: Konzorcium esetén a konzorcium vezető képviselőjének aláírása:
C69: Budapest, ....................................
H70: cégszerű aláírás, pecsét

Sheet 3.4 Közérdekű önkéntes munka ér
E1: ELSZÁMOLÓ TÁBLA
E2: ='3.4 Ügyfelek pénzbeli támogatás'!D2 -> Az „FSZA 202..-…........" azonosítószámú pályázat alapján nyújtott
D3: ='3.4 Ügyfelek pénzbeli támogatás'!B3 -> 0.000.000 Ft összegű támogatás* és a támogató által előírt önrész felhasználásáról
E5: =SUM(E7:E56) -> 80 | H5: =SUM(H7:H56) -> 180000
A6: Sorszám | B6: Név | C6: Önkéntes munka végzésnek időpontja (tól-ig) | D6: Szakképzettséget igénylő önkéntes munka (tegyen a cellába "x"-t ha szakképzett munkaerő, egyébként hagyja üresen) | E6: Önkéntes munka - elszámolt órák száma (db) | F6: Óradíj (Ft) | G6: Önkéntes munka óradíj értéke (Ft) | H6: Kötelező önrész terhére elszámolt összeg (Ft)
A7: 1 | B7: Kovács Katalin | C7: 2026.05.01-2026.05.31. | D7: x | E7: 80 | F7: 2280 | G7: =E7*F7 -> 182400 | H7: 180000 | I7: ='3.4 Ügyfelek pénzbeli támogatás'!J7 -> minta sor, saját adatokkal feltölteni, vagy ha nem volt ilyen kiadás, törölni
A8: =A7+1 -> 2 | G8: =E8*F8 -> 0
A9: =A8+1 -> 3 | G9: =E9*F9 -> 0
A10: =A9+1 -> 4 | G10: =E10*F10 -> 0
A11: =A10+1 -> 5 | G11: =E11*F11 -> 0
A12: =A11+1 -> 6 | G12: =E12*F12 -> 0
A13: =A12+1 -> 7 | G13: =E13*F13 -> 0
A14: =A13+1 -> 8 | G14: =E14*F14 -> 0
A15: =A14+1 -> 9 | G15: =E15*F15 -> 0
A16: =A15+1 -> 10 | G16: =E16*F16 -> 0
A17: =A16+1 -> 11 | G17: =E17*F17 -> 0
A18: =A17+1 -> 12 | G18: =E18*F18 -> 0
A19: =A18+1 -> 13 | G19: =E19*F19 -> 0
... A56: =A55+1 -> 50 | G56: =E56*F56 -> 0
F58: NYILATKOZAT
B63: Alulírott, a/z/ …………………………………………. törvényes képviselője felelősségem tudatában kijelentem, hogy az elszámoló lapon szereplő adatok a valóságnak megfelelnek, a támogatást a pénzügyi és számviteli jogszabályok szerint számoltam el, továbbá igazolom, hogy a támogatást a hivatkozott számú támogatói okiratban foglalt foglaltaknak megfelelően használtam fel. A bizonylatok kifizetését megelőzően meggyőződtem arról, hogy a teljesítés szerződésszerűen megtörtént. Az elszámoló lapon feltüntetett bizonylatokat kizárólag a jelen elszámolásban szerepeltetem, azok eredeti, a támogatói okirat szerint záradékolt példánya az általam képviselt szervezet székhelyén/telephelyén rendelkezésre áll. Az elektronikus úton megküldött bizonylatok és a bizonylatokat alátámasztó megküldött kapcsolódó dokumentumok az eredetivel mindenben megegyeznek. Tudomásul veszem, hogy amennyiben a támogatott projekt teljes, tényleges megvalósítási költsége kisebb, mint a tervezett összes költség, úgy arányos visszafizetési kötelezettség terhel.
B64: * Kérjük az összeget kitölteni.
C66: Budapest, ....................................
H67: cégszerű aláírás, pecsét
E70: Konzorcium esetén a konzorcium vezető képviselőjének aláírása:
C72: Budapest, ....................................
H73: cégszerű aláírás, pecsét

Sheet Legördülő
A1: ÁFA LISTA | B1: Költségvetési sorok
A2: 0 | B2: 1.1 Anyagköltség, készletbeszerzés
A3: 0.05 | B3: 1.2 Ingatlan, helyiség bérleti díja
A4: 0.18 | B4: 1.3 Közüzemi díjak
A5: 0.27 | B5: 1.4 Szolgáltatások vásárlása
B6: 1.5 Egyéb dologi kiadások
B7: 2.1 Beruházások
B8: 2.2 Felújítás
B9: 3.1 Munkabér
B10: 3.2 Megbízási díj
B11: 3.3 Egyszerűsített foglalkoztatás (alkalmi munka)
B12: 3.4 Egyéb személyi kiadások (ügyfelek pénzbeli támogatása, közérdekű önkéntes munka értéke)
